BEGIN:VCALENDAR
VERSION:2.0
PRODID:-//riverstonschool.co.uk - ECPv6.15.20//NONSGML v1.0//EN
CALSCALE:GREGORIAN
METHOD:PUBLISH
X-WR-CALNAME:riverstonschool.co.uk
X-ORIGINAL-URL:https://riverstonschool.co.uk
X-WR-CALDESC:Events for riverstonschool.co.uk
REFRESH-INTERVAL;VALUE=DURATION:PT1H
X-Robots-Tag:noindex
X-PUBLISHED-TTL:PT1H
BEGIN:VTIMEZONE
TZID:UTC
BEGIN:STANDARD
TZOFFSETFROM:+0000
TZOFFSETTO:+0000
TZNAME:UTC
DTSTART:20230101T000000
END:STANDARD
END:VTIMEZONE
BEGIN:VTIMEZONE
TZID:Europe/Paris
BEGIN:DAYLIGHT
TZOFFSETFROM:+0100
TZOFFSETTO:+0200
TZNAME:CEST
DTSTART:20230326T010000
END:DAYLIGHT
BEGIN:STANDARD
TZOFFSETFROM:+0200
TZOFFSETTO:+0100
TZNAME:CET
DTSTART:20231029T010000
END:STANDARD
BEGIN:DAYLIGHT
TZOFFSETFROM:+0100
TZOFFSETTO:+0200
TZNAME:CEST
DTSTART:20240331T010000
END:DAYLIGHT
BEGIN:STANDARD
TZOFFSETFROM:+0200
TZOFFSETTO:+0100
TZNAME:CET
DTSTART:20241027T010000
END:STANDARD
BEGIN:DAYLIGHT
TZOFFSETFROM:+0100
TZOFFSETTO:+0200
TZNAME:CEST
DTSTART:20250330T010000
END:DAYLIGHT
BEGIN:STANDARD
TZOFFSETFROM:+0200
TZOFFSETTO:+0100
TZNAME:CET
DTSTART:20251026T010000
END:STANDARD
END:VTIMEZONE
BEGIN:VEVENT
DTSTART;VALUE=DATE:20240524
DTEND;VALUE=DATE:20240525
DTSTAMP:20260421T102857
CREATED:20231106T084836Z
LAST-MODIFIED:20231106T084836Z
UID:9293-1716508800-1716595199@riverstonschool.co.uk
SUMMARY:Y11 and 13 Full End of Year Reports to Parents
DESCRIPTION:
URL:https://riverstonschool.co.uk/event/y11-and-13-full-end-of-year-reports-to-parents/
CATEGORIES:Year 11,Year 13
END:VEVENT
BEGIN:VEVENT
DTSTART;VALUE=DATE:20240527
DTEND;VALUE=DATE:20240601
DTSTAMP:20260421T102857
CREATED:20240430T100505Z
LAST-MODIFIED:20240430T100505Z
UID:9749-1716768000-1717199999@riverstonschool.co.uk
SUMMARY:Half Term Break
DESCRIPTION:
URL:https://riverstonschool.co.uk/event/half-term-break-5/
CATEGORIES:All
END:VEVENT
BEGIN:VEVENT
DTSTART;VALUE=DATE:20240605
DTEND;VALUE=DATE:20240606
DTSTAMP:20260421T102857
CREATED:20231106T084935Z
LAST-MODIFIED:20231106T084935Z
UID:9295-1717545600-1717631999@riverstonschool.co.uk
SUMMARY:EYFS DIPG Awareness Abbies Army Charity Fundraising
DESCRIPTION:
URL:https://riverstonschool.co.uk/event/eyfs-dipg-awareness-abbies-army-charity-fundraising/
CATEGORIES:Nursery and Preschool
END:VEVENT
BEGIN:VEVENT
DTSTART;VALUE=DATE:20240619
DTEND;VALUE=DATE:20240620
DTSTAMP:20260421T102857
CREATED:20240430T100537Z
LAST-MODIFIED:20240430T100537Z
UID:9751-1718755200-1718841599@riverstonschool.co.uk
SUMMARY:Final external examinations
DESCRIPTION:
URL:https://riverstonschool.co.uk/event/final-external-examinations/
END:VEVENT
BEGIN:VEVENT
DTSTART;VALUE=DATE:20240626
DTEND;VALUE=DATE:20240627
DTSTAMP:20260421T102857
CREATED:20231106T085053Z
LAST-MODIFIED:20231106T085053Z
UID:9299-1719360000-1719446399@riverstonschool.co.uk
SUMMARY:EYFS Sports Day
DESCRIPTION:
URL:https://riverstonschool.co.uk/event/eyfs-sports-day/
CATEGORIES:Nursery and Preschool
END:VEVENT
BEGIN:VEVENT
DTSTART;TZID=Europe/Paris:20240626T080000
DTEND;TZID=Europe/Paris:20240628T153000
DTSTAMP:20260421T102857
CREATED:20240430T100703Z
LAST-MODIFIED:20240430T100703Z
UID:9753-1719388800-1719588600@riverstonschool.co.uk
SUMMARY:Duke of Edinburgh Silver Award Scheme Expedition
DESCRIPTION:(Overnight) \n  \nRelevant pupils and their parents and guardians will be updated with information ahead of their trip.
URL:https://riverstonschool.co.uk/event/duke-of-edinburgh-silver-award-scheme-expedition/
END:VEVENT
BEGIN:VEVENT
DTSTART;VALUE=DATE:20240627
DTEND;VALUE=DATE:20240628
DTSTAMP:20260421T102857
CREATED:20231106T085129Z
LAST-MODIFIED:20231106T085129Z
UID:9301-1719446400-1719532799@riverstonschool.co.uk
SUMMARY:EYFS Heritage Day
DESCRIPTION:
URL:https://riverstonschool.co.uk/event/eyfs-heritage-day/
CATEGORIES:Nursery and Preschool
END:VEVENT
BEGIN:VEVENT
DTSTART;VALUE=DATE:20240628
DTEND;VALUE=DATE:20240629
DTSTAMP:20260421T102857
CREATED:20240430T100734Z
LAST-MODIFIED:20240430T100734Z
UID:9755-1719532800-1719619199@riverstonschool.co.uk
SUMMARY:Heritage Day
DESCRIPTION:
URL:https://riverstonschool.co.uk/event/heritage-day/
CATEGORIES:All
END:VEVENT
BEGIN:VEVENT
DTSTART;TZID=UTC:20240703T143000
DTEND;TZID=UTC:20240703T153000
DTSTAMP:20260421T102857
CREATED:20231106T085226Z
LAST-MODIFIED:20231106T085226Z
UID:9303-1720017000-1720020600@riverstonschool.co.uk
SUMMARY:Pre-School Graduation
DESCRIPTION:
URL:https://riverstonschool.co.uk/event/pre-school-graduation/
CATEGORIES:Nursery and Preschool
END:VEVENT
BEGIN:VEVENT
DTSTART;VALUE=DATE:20240704
DTEND;VALUE=DATE:20240705
DTSTAMP:20260421T102857
CREATED:20231106T085323Z
LAST-MODIFIED:20231106T085520Z
UID:9305-1720051200-1720137599@riverstonschool.co.uk
SUMMARY:Summer Fayre
DESCRIPTION:
URL:https://riverstonschool.co.uk/event/summer-fayre/
CATEGORIES:All
END:VEVENT
BEGIN:VEVENT
DTSTART;VALUE=DATE:20240705
DTEND;VALUE=DATE:20240706
DTSTAMP:20260421T102857
CREATED:20231106T085438Z
LAST-MODIFIED:20231106T085438Z
UID:9307-1720137600-1720223999@riverstonschool.co.uk
SUMMARY:Prize Giving
DESCRIPTION:For Year 7\,8\,9\,10 and 12
URL:https://riverstonschool.co.uk/event/prize-giving-4/
CATEGORIES:Year 10,Year 12,Year 7,Year 8,Year 9
END:VEVENT
BEGIN:VEVENT
DTSTART;TZID=Europe/Paris:20240705T080000
DTEND;TZID=Europe/Paris:20240705T120000
DTSTAMP:20260421T102857
CREATED:20240430T100817Z
LAST-MODIFIED:20240430T100817Z
UID:9757-1720166400-1720180800@riverstonschool.co.uk
SUMMARY:Term Ends at Noon
DESCRIPTION:
URL:https://riverstonschool.co.uk/event/term-ends-at-noon/
CATEGORIES:All
END:VEVENT
BEGIN:VEVENT
DTSTART;VALUE=DATE:20240819
DTEND;VALUE=DATE:20240828
DTSTAMP:20260421T102857
CREATED:20240430T101100Z
LAST-MODIFIED:20240430T101100Z
UID:9759-1724025600-1724803199@riverstonschool.co.uk
SUMMARY:Nursery and Pre-School Closed
DESCRIPTION:Bank Holiday Mon 26th Aug and Staff Inset Tuesday 27th Aug – Closed to children
URL:https://riverstonschool.co.uk/event/nursery-and-pre-school-closed-2/
CATEGORIES:Nursery and Preschool
END:VEVENT
BEGIN:VEVENT
DTSTART;TZID=Europe/Paris:20240910T170000
DTEND;TZID=Europe/Paris:20240910T180000
DTSTAMP:20260421T102857
CREATED:20240910T103747Z
LAST-MODIFIED:20240910T103747Z
UID:10103-1725987600-1725991200@riverstonschool.co.uk
SUMMARY:Parents Involvement
DESCRIPTION:
URL:https://riverstonschool.co.uk/event/parents-involvement/
LOCATION:Riverston School\, 63/69 Eltham Road Lee\, London\, SE12 8UF\, United Kingdom
CATEGORIES:Nursery and Preschool
END:VEVENT
BEGIN:VEVENT
DTSTART;TZID=Europe/Paris:20240910T190000
DTEND;TZID=Europe/Paris:20240910T200000
DTSTAMP:20260421T102857
CREATED:20240910T103232Z
LAST-MODIFIED:20240910T103232Z
UID:10097-1725994800-1725998400@riverstonschool.co.uk
SUMMARY:Parents Information Evening
DESCRIPTION:
URL:https://riverstonschool.co.uk/event/parents-information-evening-2/
LOCATION:Riverston School\, 63/69 Eltham Road Lee\, London\, SE12 8UF\, United Kingdom
CATEGORIES:Year 11,Year 12,Year 13,Year 14
END:VEVENT
BEGIN:VEVENT
DTSTART;TZID=Europe/Paris:20240926T190000
DTEND;TZID=Europe/Paris:20240926T200000
DTSTAMP:20260421T102857
CREATED:20240910T103143Z
LAST-MODIFIED:20240910T103531Z
UID:10095-1727377200-1727380800@riverstonschool.co.uk
SUMMARY:Parents Information Evening
DESCRIPTION:
URL:https://riverstonschool.co.uk/event/parents-information-evening/
LOCATION:Riverston School\, 63/69 Eltham Road Lee\, London\, SE12 8UF\, United Kingdom
CATEGORIES:Year 7
END:VEVENT
BEGIN:VEVENT
DTSTART;VALUE=DATE:20240927
DTEND;VALUE=DATE:20240928
DTSTAMP:20260421T102857
CREATED:20240910T103459Z
LAST-MODIFIED:20240910T103459Z
UID:10099-1727395200-1727481599@riverstonschool.co.uk
SUMMARY:Flu Vaccination for students with parental consent
DESCRIPTION:
URL:https://riverstonschool.co.uk/event/flu-vaccination-for-students-with-parental-consent/
LOCATION:Riverston School\, 63/69 Eltham Road Lee\, London\, SE12 8UF\, United Kingdom
CATEGORIES:Year 10,Year 11,Year 7,Year 8,Year 9
END:VEVENT
BEGIN:VEVENT
DTSTART;TZID=Europe/Paris:20241010T160000
DTEND;TZID=Europe/Paris:20241010T190000
DTSTAMP:20260421T102857
CREATED:20240910T103647Z
LAST-MODIFIED:20240910T103647Z
UID:10101-1728576000-1728586800@riverstonschool.co.uk
SUMMARY:Parents Evening
DESCRIPTION:By appointment only. Bookings open Monday 30th September.
URL:https://riverstonschool.co.uk/event/parents-evening-3/
LOCATION:Riverston School\, 63/69 Eltham Road Lee\, London\, SE12 8UF\, United Kingdom
CATEGORIES:Year 7
END:VEVENT
BEGIN:VEVENT
DTSTART;TZID=Europe/Paris:20241017T160000
DTEND;TZID=Europe/Paris:20241017T190000
DTSTAMP:20260421T102857
CREATED:20240910T103847Z
LAST-MODIFIED:20240910T103847Z
UID:10105-1729180800-1729191600@riverstonschool.co.uk
SUMMARY:Parents Evening
DESCRIPTION:By appointment only. Bookings open Monday 7th October.
URL:https://riverstonschool.co.uk/event/parents-evening-4/
CATEGORIES:Year 10
END:VEVENT
BEGIN:VEVENT
DTSTART;VALUE=DATE:20241021
DTEND;VALUE=DATE:20241102
DTSTAMP:20260421T102857
CREATED:20240910T104046Z
LAST-MODIFIED:20240910T104046Z
UID:10107-1729468800-1730505599@riverstonschool.co.uk
SUMMARY:Half Term Break
DESCRIPTION:
URL:https://riverstonschool.co.uk/event/half-term-break-6/
LOCATION:Riverston School\, 63/69 Eltham Road Lee\, London\, SE12 8UF\, United Kingdom
CATEGORIES:All
END:VEVENT
BEGIN:VEVENT
DTSTART;TZID=Europe/Paris:20241111T150000
DTEND;TZID=Europe/Paris:20241111T180000
DTSTAMP:20260421T102857
CREATED:20240910T104137Z
LAST-MODIFIED:20240910T104137Z
UID:10109-1731337200-1731348000@riverstonschool.co.uk
SUMMARY:Daisies - Parent's Evening
DESCRIPTION:By appointment only.
URL:https://riverstonschool.co.uk/event/daisies-parents-evening/
LOCATION:Riverston School\, 63/69 Eltham Road Lee\, London\, SE12 8UF\, United Kingdom
CATEGORIES:Nursery and Preschool
END:VEVENT
BEGIN:VEVENT
DTSTART;TZID=Europe/Paris:20241112T150000
DTEND;TZID=Europe/Paris:20241112T180000
DTSTAMP:20260421T102857
CREATED:20240910T104230Z
LAST-MODIFIED:20240910T104230Z
UID:10111-1731423600-1731434400@riverstonschool.co.uk
SUMMARY:Lower Pre-School Parents Evening
DESCRIPTION:By appointment only.
URL:https://riverstonschool.co.uk/event/lower-pre-school-parents-evening/
LOCATION:Riverston School\, 63/69 Eltham Road Lee\, London\, SE12 8UF\, United Kingdom
CATEGORIES:Nursery and Preschool
END:VEVENT
BEGIN:VEVENT
DTSTART;TZID=Europe/Paris:20241113T150000
DTEND;TZID=Europe/Paris:20241113T180000
DTSTAMP:20260421T102857
CREATED:20240910T104315Z
LAST-MODIFIED:20240910T104315Z
UID:10113-1731510000-1731520800@riverstonschool.co.uk
SUMMARY:Sunflowers - Parents Evening
DESCRIPTION:By appointment only
URL:https://riverstonschool.co.uk/event/sunflowers-parents-evening/
LOCATION:Riverston School\, 63/69 Eltham Road Lee\, London\, SE12 8UF\, United Kingdom
CATEGORIES:Nursery and Preschool
END:VEVENT
BEGIN:VEVENT
DTSTART;TZID=Europe/Paris:20241114T150000
DTEND;TZID=Europe/Paris:20241114T180000
DTSTAMP:20260421T102857
CREATED:20240910T104421Z
LAST-MODIFIED:20240910T104421Z
UID:10115-1731596400-1731607200@riverstonschool.co.uk
SUMMARY:Upper Pre-School Parents Evening
DESCRIPTION:By appointment only
URL:https://riverstonschool.co.uk/event/upper-pre-school-parents-evening/
LOCATION:Riverston School\, 63/69 Eltham Road Lee\, London\, SE12 8UF\, United Kingdom
CATEGORIES:Nursery and Preschool
END:VEVENT
BEGIN:VEVENT
DTSTART;TZID=Europe/Paris:20241114T190000
DTEND;TZID=Europe/Paris:20241114T200000
DTSTAMP:20260421T102857
CREATED:20240910T104518Z
LAST-MODIFIED:20240910T104518Z
UID:10117-1731610800-1731614400@riverstonschool.co.uk
SUMMARY:Parent's Information Evening
DESCRIPTION:To be confirmed for year groups.
URL:https://riverstonschool.co.uk/event/parents-information-evening-3/
LOCATION:Riverston School\, 63/69 Eltham Road Lee\, London\, SE12 8UF\, United Kingdom
END:VEVENT
BEGIN:VEVENT
DTSTART;VALUE=DATE:20241115
DTEND;VALUE=DATE:20241116
DTSTAMP:20260421T102857
CREATED:20240910T104602Z
LAST-MODIFIED:20240910T104602Z
UID:10119-1731628800-1731715199@riverstonschool.co.uk
SUMMARY:Children in Need Fundraising
DESCRIPTION:
URL:https://riverstonschool.co.uk/event/children-in-need-fundraising/
LOCATION:Riverston School\, 63/69 Eltham Road Lee\, London\, SE12 8UF\, United Kingdom
CATEGORIES:Nursery and Preschool
END:VEVENT
BEGIN:VEVENT
DTSTART;TZID=Europe/Paris:20241121T160000
DTEND;TZID=Europe/Paris:20241121T190000
DTSTAMP:20260421T102857
CREATED:20240910T104713Z
LAST-MODIFIED:20240910T104901Z
UID:10121-1732204800-1732215600@riverstonschool.co.uk
SUMMARY:Parents Evening
DESCRIPTION:Bookings open Monday 11 November for appointments.
URL:https://riverstonschool.co.uk/event/parents-evening-5/
LOCATION:Riverston School\, 63/69 Eltham Road Lee\, London\, SE12 8UF\, United Kingdom
CATEGORIES:Year 12
END:VEVENT
BEGIN:VEVENT
DTSTART;VALUE=DATE:20241201
DTEND;VALUE=DATE:20241202
DTSTAMP:20260421T102857
CREATED:20240910T105518Z
LAST-MODIFIED:20240910T105518Z
UID:10138-1733011200-1733097599@riverstonschool.co.uk
SUMMARY:Carol Service (Read Description)
DESCRIPTION:St Michaels and All Angels Church – Parents Invited \nTime and date to be confirmed.
URL:https://riverstonschool.co.uk/event/carol-service-read-description/
LOCATION:Riverston School\, 63/69 Eltham Road Lee\, London\, SE12 8UF\, United Kingdom
CATEGORIES:College,Seniors
END:VEVENT
BEGIN:VEVENT
DTSTART;TZID=Europe/Paris:20241204T143000
DTEND;TZID=Europe/Paris:20241204T150000
DTSTAMP:20260421T102857
CREATED:20240910T105017Z
LAST-MODIFIED:20240910T105017Z
UID:10126-1733322600-1733324400@riverstonschool.co.uk
SUMMARY:Nativity - Parents Invited
DESCRIPTION:
URL:https://riverstonschool.co.uk/event/nativity-parents-invited/
LOCATION:Riverston School\, 63/69 Eltham Road Lee\, London\, SE12 8UF\, United Kingdom
CATEGORIES:Nursery and Preschool
END:VEVENT
BEGIN:VEVENT
DTSTART;VALUE=DATE:20241205
DTEND;VALUE=DATE:20241206
DTSTAMP:20260421T102857
CREATED:20240910T105051Z
LAST-MODIFIED:20240910T105051Z
UID:10128-1733356800-1733443199@riverstonschool.co.uk
SUMMARY:Christmas Jumper Day - Save the Children Fundraising
DESCRIPTION:
URL:https://riverstonschool.co.uk/event/christmas-jumper-day-save-the-children-fundraising/
LOCATION:Riverston School\, 63/69 Eltham Road Lee\, London\, SE12 8UF\, United Kingdom
CATEGORIES:All
END:VEVENT
END:VCALENDAR