BEGIN:VCALENDAR
VERSION:2.0
PRODID:-//riverstonschool.co.uk - ECPv6.15.20//NONSGML v1.0//EN
CALSCALE:GREGORIAN
METHOD:PUBLISH
X-WR-CALNAME:riverstonschool.co.uk
X-ORIGINAL-URL:https://riverstonschool.co.uk
X-WR-CALDESC:Events for riverstonschool.co.uk
REFRESH-INTERVAL;VALUE=DURATION:PT1H
X-Robots-Tag:noindex
X-PUBLISHED-TTL:PT1H
BEGIN:VTIMEZONE
TZID:Europe/Paris
BEGIN:DAYLIGHT
TZOFFSETFROM:+0100
TZOFFSETTO:+0200
TZNAME:CEST
DTSTART:20230326T010000
END:DAYLIGHT
BEGIN:STANDARD
TZOFFSETFROM:+0200
TZOFFSETTO:+0100
TZNAME:CET
DTSTART:20231029T010000
END:STANDARD
BEGIN:DAYLIGHT
TZOFFSETFROM:+0100
TZOFFSETTO:+0200
TZNAME:CEST
DTSTART:20240331T010000
END:DAYLIGHT
BEGIN:STANDARD
TZOFFSETFROM:+0200
TZOFFSETTO:+0100
TZNAME:CET
DTSTART:20241027T010000
END:STANDARD
BEGIN:DAYLIGHT
TZOFFSETFROM:+0100
TZOFFSETTO:+0200
TZNAME:CEST
DTSTART:20250330T010000
END:DAYLIGHT
BEGIN:STANDARD
TZOFFSETFROM:+0200
TZOFFSETTO:+0100
TZNAME:CET
DTSTART:20251026T010000
END:STANDARD
BEGIN:DAYLIGHT
TZOFFSETFROM:+0100
TZOFFSETTO:+0200
TZNAME:CEST
DTSTART:20260329T010000
END:DAYLIGHT
BEGIN:STANDARD
TZOFFSETFROM:+0200
TZOFFSETTO:+0100
TZNAME:CET
DTSTART:20261025T010000
END:STANDARD
BEGIN:DAYLIGHT
TZOFFSETFROM:+0100
TZOFFSETTO:+0200
TZNAME:CEST
DTSTART:20270328T010000
END:DAYLIGHT
BEGIN:STANDARD
TZOFFSETFROM:+0200
TZOFFSETTO:+0100
TZNAME:CET
DTSTART:20271031T010000
END:STANDARD
END:VTIMEZONE
BEGIN:VEVENT
DTSTART;TZID=Europe/Paris:20241114T190000
DTEND;TZID=Europe/Paris:20241114T200000
DTSTAMP:20260421T125647
CREATED:20240910T104518Z
LAST-MODIFIED:20240910T104518Z
UID:10117-1731610800-1731614400@riverstonschool.co.uk
SUMMARY:Parent's Information Evening
DESCRIPTION:To be confirmed for year groups.
URL:https://riverstonschool.co.uk/event/parents-information-evening-3/
LOCATION:Riverston School\, 63/69 Eltham Road Lee\, London\, SE12 8UF\, United Kingdom
END:VEVENT
BEGIN:VEVENT
DTSTART;VALUE=DATE:20241115
DTEND;VALUE=DATE:20241116
DTSTAMP:20260421T125647
CREATED:20240910T104602Z
LAST-MODIFIED:20240910T104602Z
UID:10119-1731628800-1731715199@riverstonschool.co.uk
SUMMARY:Children in Need Fundraising
DESCRIPTION:
URL:https://riverstonschool.co.uk/event/children-in-need-fundraising/
LOCATION:Riverston School\, 63/69 Eltham Road Lee\, London\, SE12 8UF\, United Kingdom
CATEGORIES:Nursery and Preschool
END:VEVENT
BEGIN:VEVENT
DTSTART;TZID=Europe/Paris:20241121T160000
DTEND;TZID=Europe/Paris:20241121T190000
DTSTAMP:20260421T125647
CREATED:20240910T104713Z
LAST-MODIFIED:20240910T104901Z
UID:10121-1732204800-1732215600@riverstonschool.co.uk
SUMMARY:Parents Evening
DESCRIPTION:Bookings open Monday 11 November for appointments.
URL:https://riverstonschool.co.uk/event/parents-evening-5/
LOCATION:Riverston School\, 63/69 Eltham Road Lee\, London\, SE12 8UF\, United Kingdom
CATEGORIES:Year 12
END:VEVENT
BEGIN:VEVENT
DTSTART;VALUE=DATE:20241201
DTEND;VALUE=DATE:20241202
DTSTAMP:20260421T125647
CREATED:20240910T105518Z
LAST-MODIFIED:20240910T105518Z
UID:10138-1733011200-1733097599@riverstonschool.co.uk
SUMMARY:Carol Service (Read Description)
DESCRIPTION:St Michaels and All Angels Church – Parents Invited \nTime and date to be confirmed.
URL:https://riverstonschool.co.uk/event/carol-service-read-description/
LOCATION:Riverston School\, 63/69 Eltham Road Lee\, London\, SE12 8UF\, United Kingdom
CATEGORIES:College,Seniors
END:VEVENT
BEGIN:VEVENT
DTSTART;TZID=Europe/Paris:20241204T143000
DTEND;TZID=Europe/Paris:20241204T150000
DTSTAMP:20260421T125647
CREATED:20240910T105017Z
LAST-MODIFIED:20240910T105017Z
UID:10126-1733322600-1733324400@riverstonschool.co.uk
SUMMARY:Nativity - Parents Invited
DESCRIPTION:
URL:https://riverstonschool.co.uk/event/nativity-parents-invited/
LOCATION:Riverston School\, 63/69 Eltham Road Lee\, London\, SE12 8UF\, United Kingdom
CATEGORIES:Nursery and Preschool
END:VEVENT
BEGIN:VEVENT
DTSTART;VALUE=DATE:20241205
DTEND;VALUE=DATE:20241206
DTSTAMP:20260421T125647
CREATED:20240910T105051Z
LAST-MODIFIED:20240910T105051Z
UID:10128-1733356800-1733443199@riverstonschool.co.uk
SUMMARY:Christmas Jumper Day - Save the Children Fundraising
DESCRIPTION:
URL:https://riverstonschool.co.uk/event/christmas-jumper-day-save-the-children-fundraising/
LOCATION:Riverston School\, 63/69 Eltham Road Lee\, London\, SE12 8UF\, United Kingdom
CATEGORIES:All
END:VEVENT
BEGIN:VEVENT
DTSTART;TZID=Europe/Paris:20241209T133000
DTEND;TZID=Europe/Paris:20241209T160000
DTSTAMP:20260421T125647
CREATED:20240910T105211Z
LAST-MODIFIED:20240910T105211Z
UID:10132-1733751000-1733760000@riverstonschool.co.uk
SUMMARY:Christmas Party
DESCRIPTION:
URL:https://riverstonschool.co.uk/event/christmas-party/
LOCATION:Riverston School\, 63/69 Eltham Road Lee\, London\, SE12 8UF\, United Kingdom
CATEGORIES:Nursery and Preschool
END:VEVENT
BEGIN:VEVENT
DTSTART;TZID=Europe/Paris:20241211T120000
DTEND;TZID=Europe/Paris:20241211T133000
DTSTAMP:20260421T125647
CREATED:20240910T105259Z
LAST-MODIFIED:20240910T105259Z
UID:10134-1733918400-1733923800@riverstonschool.co.uk
SUMMARY:Christmas Lunch
DESCRIPTION:
URL:https://riverstonschool.co.uk/event/christmas-lunch-4/
LOCATION:Riverston School\, 63/69 Eltham Road Lee\, London\, SE12 8UF\, United Kingdom
CATEGORIES:All
END:VEVENT
BEGIN:VEVENT
DTSTART;VALUE=DATE:20241212
DTEND;VALUE=DATE:20241213
DTSTAMP:20260421T125647
CREATED:20240910T105351Z
LAST-MODIFIED:20240910T105351Z
UID:10136-1733961600-1734047999@riverstonschool.co.uk
SUMMARY:Winter Fayre
DESCRIPTION:Time to be confirmed.
URL:https://riverstonschool.co.uk/event/winter-fayre-2/
LOCATION:Riverston School\, 63/69 Eltham Road Lee\, London\, SE12 8UF\, United Kingdom
CATEGORIES:All
END:VEVENT
BEGIN:VEVENT
DTSTART;TZID=Europe/Paris:20241213T120000
DTEND;TZID=Europe/Paris:20241213T170000
DTSTAMP:20260421T125647
CREATED:20240910T105608Z
LAST-MODIFIED:20240910T105608Z
UID:10140-1734091200-1734109200@riverstonschool.co.uk
SUMMARY:Term Ends
DESCRIPTION:
URL:https://riverstonschool.co.uk/event/term-ends-4/
LOCATION:Riverston School\, 63/69 Eltham Road Lee\, London\, SE12 8UF\, United Kingdom
CATEGORIES:All
END:VEVENT
BEGIN:VEVENT
DTSTART;TZID=Europe/Paris:20250130T160000
DTEND;TZID=Europe/Paris:20250130T190000
DTSTAMP:20260421T125647
CREATED:20240910T105135Z
LAST-MODIFIED:20241114T141603Z
UID:10130-1738252800-1738263600@riverstonschool.co.uk
SUMMARY:Parents Evening
DESCRIPTION:
URL:https://riverstonschool.co.uk/event/parents-evening-7/
LOCATION:Riverston School\, 63/69 Eltham Road Lee\, London\, SE12 8UF\, United Kingdom
CATEGORIES:Year 9
END:VEVENT
BEGIN:VEVENT
DTSTART;TZID=Europe/Paris:20250306T080000
DTEND;TZID=Europe/Paris:20250306T170000
DTSTAMP:20260421T125647
CREATED:20240910T104828Z
LAST-MODIFIED:20241114T141535Z
UID:10123-1741248000-1741280400@riverstonschool.co.uk
SUMMARY:Parents Evening
DESCRIPTION:
URL:https://riverstonschool.co.uk/event/parents-evening-6/
LOCATION:Riverston School\, 63/69 Eltham Road Lee\, London\, SE12 8UF\, United Kingdom
CATEGORIES:Year 8
END:VEVENT
BEGIN:VEVENT
DTSTART;TZID=Europe/Paris:20250929T160000
DTEND;TZID=Europe/Paris:20250929T180000
DTSTAMP:20260421T125647
CREATED:20250919T092926Z
LAST-MODIFIED:20250919T095136Z
UID:11189-1759161600-1759168800@riverstonschool.co.uk
SUMMARY:Year 11 Parent Information Evening
DESCRIPTION:Our Head of Key Stage for Year 11 is gtoogood@riverstonschool.co.uk should you have any enquiries.
URL:https://riverstonschool.co.uk/event/year-11-parent-information-evening/
LOCATION:Riverston School\, 63/69 Eltham Road Lee\, London\, SE12 8UF\, United Kingdom
CATEGORIES:Year 11
END:VEVENT
BEGIN:VEVENT
DTSTART;TZID=Europe/Paris:20251008T160000
DTEND;TZID=Europe/Paris:20251008T180000
DTSTAMP:20260421T125647
CREATED:20250919T094930Z
LAST-MODIFIED:20250922T075645Z
UID:11198-1759939200-1759946400@riverstonschool.co.uk
SUMMARY:Year 13 & 14 Parent Information Evening
DESCRIPTION:
URL:https://riverstonschool.co.uk/event/year-13-14-parent-information-evening/
LOCATION:Riverston School\, 63/69 Eltham Road Lee\, London\, SE12 8UF\, United Kingdom
CATEGORIES:Year 13,Year 14
END:VEVENT
BEGIN:VEVENT
DTSTART;VALUE=DATE:20251017
DTEND;VALUE=DATE:20251018
DTSTAMP:20260421T125647
CREATED:20250919T100056Z
LAST-MODIFIED:20250919T100056Z
UID:11206-1760659200-1760745599@riverstonschool.co.uk
SUMMARY:Individual Student Photos
DESCRIPTION:
URL:https://riverstonschool.co.uk/event/individual-student-photos/
LOCATION:Riverston School\, 63/69 Eltham Road Lee\, London\, SE12 8UF\, United Kingdom
CATEGORIES:All
END:VEVENT
BEGIN:VEVENT
DTSTART;TZID=Europe/Paris:20251106T160000
DTEND;TZID=Europe/Paris:20251106T190000
DTSTAMP:20260421T125647
CREATED:20250919T095041Z
LAST-MODIFIED:20251002T102417Z
UID:11200-1762444800-1762455600@riverstonschool.co.uk
SUMMARY:Year 10 Parents Evening
DESCRIPTION:
URL:https://riverstonschool.co.uk/event/year-10-parents-evening/
LOCATION:Riverston School\, 63/69 Eltham Road Lee\, London\, SE12 8UF\, United Kingdom
CATEGORIES:Year 10
END:VEVENT
BEGIN:VEVENT
DTSTART;TZID=Europe/Paris:20251204T160000
DTEND;TZID=Europe/Paris:20251204T190000
DTSTAMP:20260421T125647
CREATED:20250919T095234Z
LAST-MODIFIED:20250919T095234Z
UID:11202-1764864000-1764874800@riverstonschool.co.uk
SUMMARY:Year 8 Parents Evening
DESCRIPTION:
URL:https://riverstonschool.co.uk/event/year-8-parents-evening/
LOCATION:Riverston School\, 63/69 Eltham Road Lee\, London\, SE12 8UF\, United Kingdom
CATEGORIES:Year 8
END:VEVENT
BEGIN:VEVENT
DTSTART;TZID=Europe/Paris:20251205T140000
DTEND;TZID=Europe/Paris:20251205T153000
DTSTAMP:20260421T125647
CREATED:20250919T100507Z
LAST-MODIFIED:20250919T100724Z
UID:11210-1764943200-1764948600@riverstonschool.co.uk
SUMMARY:Carol Service Rehearsal
DESCRIPTION:
URL:https://riverstonschool.co.uk/event/carol-service-rehearsal/
LOCATION:St Michael’s and All Angels Church Blackheath\, 1 Pond Rd\, London\, SE3 9JL\, United Kingdom
CATEGORIES:All
END:VEVENT
BEGIN:VEVENT
DTSTART;TZID=Europe/Paris:20251209T140000
DTEND;TZID=Europe/Paris:20251209T153000
DTSTAMP:20260421T125647
CREATED:20250919T100651Z
LAST-MODIFIED:20250919T100651Z
UID:11213-1765288800-1765294200@riverstonschool.co.uk
SUMMARY:Carol Service
DESCRIPTION:
URL:https://riverstonschool.co.uk/event/carol-service/
LOCATION:St Michael’s and All Angels Church Blackheath\, 1 Pond Rd\, London\, SE3 9JL\, United Kingdom
CATEGORIES:All
END:VEVENT
BEGIN:VEVENT
DTSTART;TZID=Europe/Paris:20251211T120000
DTEND;TZID=Europe/Paris:20251211T160000
DTSTAMP:20260421T125647
CREATED:20250919T100807Z
LAST-MODIFIED:20250919T100807Z
UID:11216-1765454400-1765468800@riverstonschool.co.uk
SUMMARY:Winter Fair
DESCRIPTION:
URL:https://riverstonschool.co.uk/event/winter-fair/
LOCATION:Riverston School\, 63/69 Eltham Road Lee\, London\, SE12 8UF\, United Kingdom
CATEGORIES:All
END:VEVENT
BEGIN:VEVENT
DTSTART;TZID=Europe/Paris:20260114T093000
DTEND;TZID=Europe/Paris:20260114T101500
DTSTAMP:20260421T125647
CREATED:20250924T092130Z
LAST-MODIFIED:20250924T092130Z
UID:11232-1768383000-1768385700@riverstonschool.co.uk
SUMMARY:EYFS Coffee Morning
DESCRIPTION:
URL:https://riverstonschool.co.uk/event/eyfs-coffee-morning/
LOCATION:Riverston School\, 63/69 Eltham Road Lee\, London\, SE12 8UF\, United Kingdom
CATEGORIES:Nursery and Preschool
ORGANIZER;CN="Ms K Clark":MAILTO:kclark@riverstonschool.co.uk
END:VEVENT
BEGIN:VEVENT
DTSTART;TZID=Europe/Paris:20260115T160000
DTEND;TZID=Europe/Paris:20260115T180000
DTSTAMP:20260421T125647
CREATED:20250924T092252Z
LAST-MODIFIED:20250924T093342Z
UID:11238-1768492800-1768500000@riverstonschool.co.uk
SUMMARY:Year 11 Parents Evening
DESCRIPTION:
URL:https://riverstonschool.co.uk/event/year-11-parents-evening/
LOCATION:Riverston School\, 63/69 Eltham Road Lee\, London\, SE12 8UF\, United Kingdom
CATEGORIES:Year 11
END:VEVENT
BEGIN:VEVENT
DTSTART;TZID=Europe/Paris:20260122T160000
DTEND;TZID=Europe/Paris:20260122T180000
DTSTAMP:20260421T125647
CREATED:20250924T093423Z
LAST-MODIFIED:20250924T093423Z
UID:11240-1769097600-1769104800@riverstonschool.co.uk
SUMMARY:Year 13 Parents Evening
DESCRIPTION:
URL:https://riverstonschool.co.uk/event/year-13-parents-evening/
LOCATION:Riverston School\, 63/69 Eltham Road Lee\, London\, SE12 8UF\, United Kingdom
CATEGORIES:Year 13
END:VEVENT
BEGIN:VEVENT
DTSTART;TZID=Europe/Paris:20260129T160000
DTEND;TZID=Europe/Paris:20260129T180000
DTSTAMP:20260421T125647
CREATED:20250924T093919Z
LAST-MODIFIED:20251202T135325Z
UID:11248-1769702400-1769709600@riverstonschool.co.uk
SUMMARY:Year 9 Parents Evening
DESCRIPTION:
URL:https://riverstonschool.co.uk/event/year-9-parents-evening/
LOCATION:Riverston School\, 63/69 Eltham Road Lee\, London\, SE12 8UF\, United Kingdom
CATEGORIES:Year 9
END:VEVENT
BEGIN:VEVENT
DTSTART;TZID=Europe/Paris:20260205T160000
DTEND;TZID=Europe/Paris:20260205T180000
DTSTAMP:20260421T125647
CREATED:20250924T093527Z
LAST-MODIFIED:20250924T093527Z
UID:11242-1770307200-1770314400@riverstonschool.co.uk
SUMMARY:Year 9 Options Evening
DESCRIPTION:
URL:https://riverstonschool.co.uk/event/year-9-options-evening/
LOCATION:Riverston School\, 63/69 Eltham Road Lee\, London\, SE12 8UF\, United Kingdom
CATEGORIES:Year 9
END:VEVENT
BEGIN:VEVENT
DTSTART;TZID=Europe/Paris:20260211T170000
DTEND;TZID=Europe/Paris:20260211T180000
DTSTAMP:20260421T125647
CREATED:20250924T093804Z
LAST-MODIFIED:20250924T093804Z
UID:11246-1770829200-1770832800@riverstonschool.co.uk
SUMMARY:EYFS Parents Coffee Evening
DESCRIPTION:
URL:https://riverstonschool.co.uk/event/eyfs-parents-coffee-evening-2/
LOCATION:Riverston School\, 63/69 Eltham Road Lee\, London\, SE12 8UF\, United Kingdom
CATEGORIES:Nursery and Preschool
END:VEVENT
BEGIN:VEVENT
DTSTART;TZID=Europe/Paris:20260212T160000
DTEND;TZID=Europe/Paris:20260212T180000
DTSTAMP:20260421T125647
CREATED:20250924T093631Z
LAST-MODIFIED:20250924T093631Z
UID:11244-1770912000-1770919200@riverstonschool.co.uk
SUMMARY:Year 7 Parents Evening
DESCRIPTION:
URL:https://riverstonschool.co.uk/event/year-7-parents-evening/
LOCATION:Riverston School\, 63/69 Eltham Road Lee\, London\, SE12 8UF\, United Kingdom
CATEGORIES:Year 7
END:VEVENT
BEGIN:VEVENT
DTSTART;TZID=Europe/Paris:20260302T080000
DTEND;TZID=Europe/Paris:20260306T170000
DTSTAMP:20260421T125647
CREATED:20250924T094100Z
LAST-MODIFIED:20250924T094100Z
UID:11250-1772438400-1772816400@riverstonschool.co.uk
SUMMARY:National Careers Week
DESCRIPTION:
URL:https://riverstonschool.co.uk/event/national-careers-week/
LOCATION:Riverston School\, 63/69 Eltham Road Lee\, London\, SE12 8UF\, United Kingdom
CATEGORIES:All
END:VEVENT
BEGIN:VEVENT
DTSTART;VALUE=DATE:20260305
DTEND;VALUE=DATE:20260306
DTSTAMP:20260421T125647
CREATED:20250924T094140Z
LAST-MODIFIED:20250924T094140Z
UID:11252-1772668800-1772755199@riverstonschool.co.uk
SUMMARY:World Book Day
DESCRIPTION:
URL:https://riverstonschool.co.uk/event/world-book-day-3/
LOCATION:Riverston School\, 63/69 Eltham Road Lee\, London\, SE12 8UF\, United Kingdom
CATEGORIES:All
END:VEVENT
BEGIN:VEVENT
DTSTART;TZID=Europe/Paris:20260309T080000
DTEND;TZID=Europe/Paris:20260313T170000
DTSTAMP:20260421T125647
CREATED:20250924T094236Z
LAST-MODIFIED:20250924T094236Z
UID:11254-1773043200-1773421200@riverstonschool.co.uk
SUMMARY:British Science Week
DESCRIPTION:
URL:https://riverstonschool.co.uk/event/british-science-week-2/
LOCATION:Riverston School\, 63/69 Eltham Road Lee\, London\, SE12 8UF\, United Kingdom
CATEGORIES:All
END:VEVENT
END:VCALENDAR