BEGIN:VCALENDAR
VERSION:2.0
PRODID:-//riverstonschool.co.uk - ECPv6.15.20//NONSGML v1.0//EN
CALSCALE:GREGORIAN
METHOD:PUBLISH
X-WR-CALNAME:riverstonschool.co.uk
X-ORIGINAL-URL:https://riverstonschool.co.uk
X-WR-CALDESC:Events for riverstonschool.co.uk
REFRESH-INTERVAL;VALUE=DURATION:PT1H
X-Robots-Tag:noindex
X-PUBLISHED-TTL:PT1H
BEGIN:VTIMEZONE
TZID:Europe/Paris
BEGIN:DAYLIGHT
TZOFFSETFROM:+0100
TZOFFSETTO:+0200
TZNAME:CEST
DTSTART:20250330T010000
END:DAYLIGHT
BEGIN:STANDARD
TZOFFSETFROM:+0200
TZOFFSETTO:+0100
TZNAME:CET
DTSTART:20251026T010000
END:STANDARD
BEGIN:DAYLIGHT
TZOFFSETFROM:+0100
TZOFFSETTO:+0200
TZNAME:CEST
DTSTART:20260329T010000
END:DAYLIGHT
BEGIN:STANDARD
TZOFFSETFROM:+0200
TZOFFSETTO:+0100
TZNAME:CET
DTSTART:20261025T010000
END:STANDARD
BEGIN:DAYLIGHT
TZOFFSETFROM:+0100
TZOFFSETTO:+0200
TZNAME:CEST
DTSTART:20270328T010000
END:DAYLIGHT
BEGIN:STANDARD
TZOFFSETFROM:+0200
TZOFFSETTO:+0100
TZNAME:CET
DTSTART:20271031T010000
END:STANDARD
END:VTIMEZONE
BEGIN:VEVENT
DTSTART;TZID=Europe/Paris:20260709T120000
DTEND;TZID=Europe/Paris:20260709T153000
DTSTAMP:20260421T173158
CREATED:20250924T095058Z
LAST-MODIFIED:20250924T095126Z
UID:11268-1783598400-1783611000@riverstonschool.co.uk
SUMMARY:Summer Fair
DESCRIPTION:
URL:https://riverstonschool.co.uk/event/summer-fair/
LOCATION:Riverston School\, 63/69 Eltham Road Lee\, London\, SE12 8UF\, United Kingdom
CATEGORIES:All
END:VEVENT
BEGIN:VEVENT
DTSTART;VALUE=DATE:20260710
DTEND;VALUE=DATE:20260711
DTSTAMP:20260421T173158
CREATED:20250924T095201Z
LAST-MODIFIED:20250924T095201Z
UID:11270-1783641600-1783727999@riverstonschool.co.uk
SUMMARY:Prize Giving
DESCRIPTION:
URL:https://riverstonschool.co.uk/event/prize-giving-5/
LOCATION:Riverston School\, 63/69 Eltham Road Lee\, London\, SE12 8UF\, United Kingdom
CATEGORIES:All
END:VEVENT
END:VCALENDAR